BEGIN:VCALENDAR
VERSION:2.0
PRODID:-//Jazz-Initiative Eifel e. V.//NONSGML kigkonsult.se iCalcreator 2.41.92//
CALSCALE:GREGORIAN
METHOD:PUBLISH
UID:35653964-6666-4261-a162-373062613466
X-WR-CALNAME:iCagenda
X-WR-CALDESC:Event Management Extension for Joomla!
X-WR-RELCALID:3E26604A-50F4-4449-8B3E-E4F4932D05B5
X-WR-TIMEZONE:UTC
BEGIN:VTIMEZONE
TZID:UTC
END:VTIMEZONE
BEGIN:VEVENT
UID:61366461-3736-4931-a261-316638396637
DTSTAMP:20260421T222608Z
CATEGORIES:Allgemein
CLASS:PUBLIC
DESCRIPTION;ALTREP="CID:<FFFF__=0ABBE548DFE235B58f9e8a93d@coffeebean.com>":
 Latein Amerikanische rhythmussen mit Gedichten in Englisch.&nbsp\;\nConga\
 , bongo\, drums....\n&nbsp\;\nUnd Los Vecinos aus Deutschland und Belgien.
 ..spielen Weltmusik...
DTSTART:20220408T193000Z
DTEND:20220408T193000Z
GEO:00;0
LOCATION:Dorfshaus Holzheim Belgien
ORGANIZER;CN=:mailto:Karolien.verheyen76@gmail.com
SEQUENCE:1
SUMMARY:Poetischer und musikalischer Abend
TRANSP:OPAQUE
URL:https://jazzei.de/alle-termine/236-poetischer-und-musikalischer-abend/2
 022-04-08-19-30
END:VEVENT
END:VCALENDAR
