BEGIN:VCALENDAR
VERSION:2.0
PRODID:-//Jazz-Initiative Eifel e. V.//NONSGML kigkonsult.se iCalcreator 2.41.92//
CALSCALE:GREGORIAN
METHOD:PUBLISH
UID:66393362-3464-4035-b564-653361306235
X-WR-CALNAME:iCagenda
X-WR-CALDESC:Event Management Extension for Joomla!
X-WR-RELCALID:3E26604A-50F4-4449-8B3E-E4F4932D05B5
X-WR-TIMEZONE:UTC
BEGIN:VTIMEZONE
TZID:UTC
END:VTIMEZONE
BEGIN:VEVENT
UID:62386134-3736-4132-a433-663862633961
DTSTAMP:20260421T222900Z
CATEGORIES:Feste
CLASS:PUBLIC
DESCRIPTION;ALTREP="CID:<FFFF__=0ABBE548DFE235B58f9e8a93d@coffeebean.com>":
 FÜNF Jahre „TheBlueSwingingDixies“Einladung zu Dixiejazz\, Swing und Blues
  in lockerer Kneipenathmosphäre 23. April 2022 um 19:30 „Turnhalle“ Bitbur
 g \,Trierer StraßeDie bekannte Dixieland-Jazzband feiert ihr 5-jähriges Ju
 biläum im Rahmen eines Benefizkonzertes und freut sich über zahlreiche Gäs
 te.Die Veranstaltung wird von der Kulturgemeinschaft Bitburg unterstützt. 
 Eintritt ist frei. Die Spenden werden an eine Hilfsorganisation gespendet.
 The BlueSwingingDixies freuen sich auf Ihren Besuch und Ihre Unterstützung
 .
DTSTART:20220423T193000Z
DTEND:20220423T193000Z
GEO:00;0
LOCATION:Turnhalle Trierer Straße in Bitburg
ORGANIZER;CN=:mailto:theblueswingingdixies@gmail.com
SEQUENCE:1
SUMMARY:Jubilämskonzert FÜNF Jahre TheBlueSwingingDixies
TRANSP:OPAQUE
URL:https://jazzei.de/alle-termine/250-jubilaemskonzert-fuenf-jahre-theblue
 swingingdixies/2022-04-23-19-30
END:VEVENT
END:VCALENDAR
