BEGIN:VCALENDAR
VERSION:2.0
PRODID:-//Jazz-Initiative Eifel e. V.//NONSGML kigkonsult.se iCalcreator 2.41.92//
CALSCALE:GREGORIAN
METHOD:PUBLISH
UID:63366639-6137-4932-b638-393234623439
X-WR-CALNAME:iCagenda
X-WR-CALDESC:Event Management Extension for Joomla!
X-WR-RELCALID:3E26604A-50F4-4449-8B3E-E4F4932D05B5
X-WR-TIMEZONE:UTC
BEGIN:VTIMEZONE
TZID:UTC
END:VTIMEZONE
BEGIN:VEVENT
UID:32616661-3631-4438-a461-663636306137
DTSTAMP:20260422T012952Z
CATEGORIES:Kulturbrauerei im Brauhaus Prüm
CLASS:PUBLIC
DESCRIPTION;ALTREP="CID:<FFFF__=0ABBE548DFE235B58f9e8a93d@coffeebean.com>":
 Acapulco Firebirds / Weihnachten im Brauhaus\nanstelle der berühmten und b
 erüchtigten Projektfete\, die in diesem Jahr ausfällt spielen die&nbsp\;Ac
 apulco Firebirds ihr Weihnachtskonzert in Prümer Brauhaus. näheres erfahre
 n Sie direkt im Brauhaus.
DTSTART:20221226T200000Z
DTEND:20221226T230000Z
GEO:00;0
LOCATION:
ORGANIZER:
SEQUENCE:1
SUMMARY:Acapulco Firebirds / Weihnachten im Brauhaus
TRANSP:OPAQUE
URL:https://jazzei.de/alle-termine/297-acapulco-firebirds-weihnachten-im-br
 auhaus
END:VEVENT
END:VCALENDAR
