BEGIN:VCALENDAR
VERSION:2.0
PRODID:-//Jazz-Initiative Eifel e. V.//NONSGML kigkonsult.se iCalcreator 2.41.92//
CALSCALE:GREGORIAN
METHOD:PUBLISH
UID:34363464-6661-4833-a239-636334666336
X-WR-CALNAME:iCagenda
X-WR-CALDESC:Event Management Extension for Joomla!
X-WR-RELCALID:3E26604A-50F4-4449-8B3E-E4F4932D05B5
X-WR-TIMEZONE:UTC
BEGIN:VTIMEZONE
TZID:UTC
END:VTIMEZONE
BEGIN:VEVENT
UID:35366630-6663-4637-b130-306666306336
DTSTAMP:20260421T235434Z
CATEGORIES:Allgemein
CLASS:PUBLIC
DESCRIPTION;ALTREP="CID:<FFFF__=0ABBE548DFE235B58f9e8a93d@coffeebean.com>":
 Edith enters the stage in black and in all simplicity. A long necklace on 
 a leather like tunic\, and that’s all she needs. Her voice will do the res
 t. Before long\, it feels dark outside – the jazz club feeling permeates t
 he room … With her natural\, modest and unpretentious look\, Edith creates
  a complete focus on her voice\, deep and full\, with a soft power. She ma
 kes singing seem easy and effortless – the proof of hard work. (Source: Un
 ni Holtedahl 2013\, www.clew.lu)\nIn co-operation with Bluebird Music ASBL
  https://blue-bird.lu/
DTSTART:20241001T203000Z
DTEND:20241001T230000Z
GEO:00;0
LOCATION:Liquid Bar
ORGANIZER:
SEQUENCE:1
SUMMARY:Edith van den Heuvel
TRANSP:OPAQUE
URL:https://jazzei.de/alle-termine/466-edith-van-den-heuvel/2024-10-01-20-3
 0
END:VEVENT
END:VCALENDAR
