BEGIN:VCALENDAR
VERSION:2.0
PRODID:-//Jazz-Initiative Eifel e. V.//NONSGML kigkonsult.se iCalcreator 2.41.92//
CALSCALE:GREGORIAN
METHOD:PUBLISH
UID:30326332-6334-4566-a263-326137383936
X-WR-CALNAME:iCagenda
X-WR-CALDESC:Event Management Extension for Joomla!
X-WR-RELCALID:3E26604A-50F4-4449-8B3E-E4F4932D05B5
X-WR-TIMEZONE:UTC
BEGIN:VTIMEZONE
TZID:UTC
END:VTIMEZONE
BEGIN:VEVENT
UID:35356666-3133-4463-a633-326462323933
DTSTAMP:20260421T235432Z
CATEGORIES:Allgemein
CLASS:PUBLIC
DESCRIPTION;ALTREP="CID:<FFFF__=0ABBE548DFE235B58f9e8a93d@coffeebean.com>":
 Für dieses besondere Konzert im Liquid wird Benoît Martiny mit der George 
 Letellier Group auftreten. Gegründet im August 2021 von George LetelIier (
 Klavier)\, Paulo Simoes (Gitarre)\, Vedran Mutic (Bass)\, Benoît Martiny (
 Schlagzeug) und Solomiya Storozhynska (Violine &amp\; Gesang) und ihrem ge
 meinsamen Interesse an der Musik von Pat Metheny\, dem Komponieren von Ori
 ginalmusik und die Aufführung cooler Arrangements ausgewählter Jazz-Standa
 rds.\n\nIn Kooperation mit Bluebird Music ASBL https://blue-bird.lu/\nMit 
 der finanziellen Unterstützung des Ministeriums für Kultur des Großherzogt
 ums Luxemburg.
DTSTART:20241210T203000Z
DTEND:20241210T230000Z
GEO:+49.609001;+6.135924
LOCATION:Liquid Bar\, Luxemburg
ORGANIZER:
SEQUENCE:1
SUMMARY:Benoît Martiny & George Letellier Group
TRANSP:OPAQUE
URL:https://jazzei.de/alle-termine/486-benoit-martiny-george-letellier-grou
 p/2024-12-10-20-30
END:VEVENT
END:VCALENDAR
