BEGIN:VCALENDAR
VERSION:2.0
PRODID:-//Jazz-Initiative Eifel e. V.//NONSGML kigkonsult.se iCalcreator 2.41.92//
CALSCALE:GREGORIAN
METHOD:PUBLISH
UID:62383439-3965-4437-b832-633038386438
X-WR-CALNAME:iCagenda
X-WR-CALDESC:Event Management Extension for Joomla!
X-WR-RELCALID:3E26604A-50F4-4449-8B3E-E4F4932D05B5
X-WR-TIMEZONE:UTC
BEGIN:VTIMEZONE
TZID:UTC
END:VTIMEZONE
BEGIN:VEVENT
UID:38363434-6534-4362-a135-333233353831
DTSTAMP:20260421T204732Z
CATEGORIES:Allgemein
CLASS:PUBLIC
DESCRIPTION;ALTREP="CID:<FFFF__=0ABBE548DFE235B58f9e8a93d@coffeebean.com>":
 Das Duo interpretiert Standards aus dem Folk-\, Blues- und Country-Reperto
 ire im Stil von Johnny Cash und Willie Nelson.\nBesetzung:\n\nIvan Lecuit 
 Simões - Gesang und akustische Gitarre\nPaulo Simões - akustische Gitarre
 \n\n\nIm Rahmen der Bluebird Coffee Sessions und in co-operation with Blue
 bird Music ASBL\, der Gemeinde Vianden und Colette Coffee Craft.
DTSTART:20250615T110000Z
DTEND:20250615T121500Z
GEO:00;0
LOCATION:Collette Coffee Craft\, Vianden
ORGANIZER:
SEQUENCE:1
SUMMARY:Ivan Lecuit Simões Duo
TRANSP:OPAQUE
URL:https://jazzei.de/alle-termine/556-ivan-lecuit-simoes-duo/2025-06-15-11
 -00
END:VEVENT
END:VCALENDAR
