BEGIN:VCALENDAR
VERSION:2.0
PRODID:-//Jazz-Initiative Eifel e. V.//NONSGML kigkonsult.se iCalcreator 2.41.92//
CALSCALE:GREGORIAN
METHOD:PUBLISH
UID:32383730-6137-4266-b931-653135653535
X-WR-CALNAME:iCagenda
X-WR-CALDESC:Event Management Extension for Joomla!
X-WR-RELCALID:3E26604A-50F4-4449-8B3E-E4F4932D05B5
X-WR-TIMEZONE:UTC
BEGIN:VTIMEZONE
TZID:UTC
END:VTIMEZONE
BEGIN:VEVENT
UID:32666165-3061-4736-a433-613634316533
DTSTAMP:20260421T173834Z
CATEGORIES:Jazzclub
CLASS:PUBLIC
DESCRIPTION;ALTREP="CID:<FFFF__=0ABBE548DFE235B58f9e8a93d@coffeebean.com>":
 Fröhlich\, locker und mit großem Engagement unterhält&nbsp\;die Slaughterh
 ouse Jazzband ihr Publikum seit 30 Jahren. Die Band ist der Jazzinitiative
  seit dem ersten&nbsp\;Prümer Jazzstag 1997 verbunden.&nbsp\;Gastspiele fü
 hrten sie nach New Orleans und zu den größten und wichtigsten europäischen
  Oldtimejazz und Dixie-Festivals. Qualifiziert haben sie sich für diese Ko
 nzertreisen durch Workshops bei der Jazz-Initiative Eifel und durch die Ei
 nladung erfahrener und international gefragter Gastmusiker zu ihren eigene
 n Auftritten.&nbsp\;Im Repertoire hat die Band im Dezember internationale&
 nbsp\;Weihnachtslieder.
DTSTART:20251203T200000Z
DTEND:20251203T220000Z
GEO:+50.231579;+6.47357
LOCATION:Weinsheim Scheune bei Clemens Johans
ORGANIZER;CN=:mailto:info@jazzei.de
SEQUENCE:1
SUMMARY:Santa Claus Meets Jazz / Slaughterhouse Jazzband / Prümer Jazzclub 
 in WEINSHEIM  in der Scheune (zum Bahnhof 10)
TRANSP:OPAQUE
URL:https://jazzei.de/alle-termine/687-pruemer-jazzclub-in-weinsheim-in-der
 -scheune
END:VEVENT
END:VCALENDAR
