BEGIN:VCALENDAR
VERSION:2.0
PRODID:-//Jazz-Initiative Eifel e. V.//NONSGML kigkonsult.se iCalcreator 2.41.92//
CALSCALE:GREGORIAN
METHOD:PUBLISH
UID:36396331-3465-4033-a462-303635613464
X-WR-CALNAME:iCagenda
X-WR-CALDESC:Event Management Extension for Joomla!
X-WR-RELCALID:3E26604A-50F4-4449-8B3E-E4F4932D05B5
X-WR-TIMEZONE:UTC
BEGIN:VTIMEZONE
TZID:UTC
END:VTIMEZONE
BEGIN:VEVENT
UID:65373764-3762-4864-b266-636436356533
DTSTAMP:20260420T041116Z
CATEGORIES:Jazzclub
CLASS:PUBLIC
DESCRIPTION;ALTREP="CID:<FFFF__=0ABBE548DFE235B58f9e8a93d@coffeebean.com>":
 Jazz mit Funky und Fusion Elementen im Jazzclub\nMit diesem außergerwöhnli
 chen Trio bietet die Jazz-Initiative Eifel wieder ein neues Highlight im B
 itburger Jazzclub. Beim Monday-Night Jazz werden Möglichkeiten&nbsp\;und&n
 bsp\;Flexibilität&nbsp\;eines&nbsp\;Trios&nbsp\;faszinierend von den&nbsp\
 ;drei&nbsp\;Musikern dargeboten.\nTri&nbsp\;O’Marío haben sich&nbsp\;mit&n
 bsp\;Orgel\,&nbsp\;Gitarre&nbsp\;und&nbsp\;Drum-Set ihre&nbsp\;Traumbesetz
 ung&nbsp\;geschaffen\, um&nbsp\;jede&nbsp\;gewünschte&nbsp\;Stimmung&nbsp\
 ;und&nbsp\;Energie&nbsp\;zu erzeugen.&nbsp\;Songs&nbsp\;aus&nbsp\;dem&nbsp
 \;traditionellen&nbsp\;Jazz-Repertoire\,&nbsp\;Funky-Fusion- Elemente&nbsp
 \;und&nbsp\;brasilianische&nbsp\;Themen&nbsp\;haben&nbsp\;die internationa
 le&nbsp\;Besetzung inspiriert\,&nbsp\;ihre&nbsp\;eigenen&nbsp\;Songs&nbsp\
 ;zu&nbsp\;schreiben&nbsp\;und&nbsp\;diese&nbsp\;nun vorzustellen.&nbsp\;Es
 &nbsp\;wird&nbsp\;abwechslungsreich\,&nbsp\;smooth&nbsp\;und&nbsp\;groovy.
 \nDie Besetzung: Bertram&nbsp\;Liebmann&nbsp\;-&nbsp\;or&nbsp\;(AT)&nbsp\;
 /&nbsp\;João&nbsp\;Lucas&nbsp\;Moreira&nbsp\;-&nbsp\;gt&nbsp\;(BR)&nbsp\;/
 &nbsp\;Theo&nbsp\;Wolf&nbsp\;-&nbsp\;dr&nbsp\; (DE)&nbsp\;&nbsp\; sind all
 esamt studierte Musiker und sie&nbsp\; verfügen große Erfahrung\, die sie 
 u. a. in verschiedenen Formationen auf internationalen Bühnen gesammelt ha
 ben.\nAuf dieses Konzert darf man sehr gespannt sein\, wird doch seit lang
 er Zeit wieder eine Orgel erklingen.\nDer Monday-Night Jazz findet statt a
 m Montag\, 7. 10. 2024\, Beginn 20 Uhr im Jazz-Ballroom im Bowling-Center 
 Bitburg\, Charles-Lindbergh-Allee 5. Eintritt frei.
DTSTART:20241007T200000Z
DTEND:20241007T200000Z
GEO:00;0
LOCATION:Bitburg\, Jazz-Ballroom im Bowling Center\, Charles-Lindbergh-Alle
 e 5
ORGANIZER:
SEQUENCE:1
SUMMARY:Jazz mit Funky und Fusion Elementen im Jazzclub
TRANSP:OPAQUE
URL:https://jazzei.de/termine/390-jazz-mit-funky-und-fusion-elementen-im-ja
 zzclub/2024-10-07-20-00
END:VEVENT
END:VCALENDAR
