BEGIN:VCALENDAR
VERSION:2.0
PRODID:-//Jazz-Initiative Eifel e. V.//NONSGML kigkonsult.se iCalcreator 2.41.92//
CALSCALE:GREGORIAN
METHOD:PUBLISH
UID:32356264-3965-4935-b964-363331616339
X-WR-CALNAME:iCagenda
X-WR-CALDESC:Event Management Extension for Joomla!
X-WR-RELCALID:3E26604A-50F4-4449-8B3E-E4F4932D05B5
X-WR-TIMEZONE:UTC
BEGIN:VTIMEZONE
TZID:UTC
END:VTIMEZONE
BEGIN:VEVENT
UID:39616162-3434-4239-b065-656437313265
DTSTAMP:20260419T124228Z
CATEGORIES:Feste
CLASS:PUBLIC
DESCRIPTION;ALTREP="CID:<FFFF__=0ABBE548DFE235B58f9e8a93d@coffeebean.com>":
 9. Quattropole Swing Exchange\nVom 13. bis 17. Mai findet zum neunten Mal 
 der „Quattropole Swing Exchange“ in Trier\, Luxemburg\, Saarbrücken und Me
 tz statt.\nAllen Swing-Musik- und Lindy Hop-Begeisterten\, egal ob Anfänge
 r:innen oder Fortgeschrittene\, wird ein vielfältiges Programm mit Worksho
 ps\, Brunch\, Jazz-Musik und Tanzpartys geboten.\nAm 14. Mai kommt das Eve
 nt um 20 Uhr ins Druckwerk nach Trier-Euren. Bei einem Workshop kann die Q
 uattropole-Choreographie erlernt werden\, die speziell für diese grenzüber
 schreitende\, musikalisch-tänzerische Begegnung kreiert wird. Anschließend
  sorgt an gleicher Stelle ab 21 Uhr die Trierer Band „Cardamon“ im Quattro
 pole-Hotclub für eine stimmungsvolle Swing-Tanzatmosphäre\, bei der bis sp
 ät in die Nacht das Tanzbein geschwungen werden kann. Am nächsten Tag geht
  es mit einem bunten Tagesprogramm weiter.\nZum Programm gehört außerdem\,
  die verschiedenen Quattropole-Städte in der Großregion zu entdecken. Orga
 nisiert wird das Programm in Trier vom Tanzverein Lindy Hop Circle Trier (
 https://lindyhopcircletrier.de/) Tickets sind für das Komplettprogramm in 
 allen vier Städten oder einzelne Städte erhältlich.\nTermine:\n13./14. Mai
 : Luxemburg (LU)\n14./15. Mai: Trier (DE)\n15./16. Mai: Saarbrücken (DE)\n
 16./17. Mai: Metz (FR)\nInformationen zu Programm\, Preisen und Anmeldung:
 &nbsp\;https://www.quattropole-swing.com/
DTSTART:20260513T000000Z
DTEND:20260517T205200Z
GEO:00;0
LOCATION:
ORGANIZER;CN=:mailto:info@lindyhopcircletrier.de
SEQUENCE:1
SUMMARY:9. Quattropole Swing Exchange
TRANSP:OPAQUE
URL:https://jazzei.de/termine/781-9-quattropole-swing-exchange
END:VEVENT
END:VCALENDAR
